BEGIN:VCALENDAR
VERSION:2.0
METHOD:PUBLISH
PRODID:-//Causal Sarl//LionsBase Calendar 5.0.x-dev//DE
TZID:Europe/Zurich
BEGIN:VEVENT
UID:33806_20260509@burg-liechtenstein.lions.at
DTSTAMP:20260422T093821Z
DTSTART:20260509T183000Z
DTEND:20260510T010000Z
ORGANIZER:LC Wien ImPuls Öffentlich
LOCATION:Casino Zögernitz\, Döblinger Hauptstraße 76\, 1190 WIen
SUMMARY:Lions Sommer Ball im Casino Zögernitz\, 1190 Wien
DESCRIPTION:Liebe Lionsfreunde\, \n\nder LionsClub Wien ImPu
 ls lädt anläßlich seines 25 Jahr Jubiläums euch herzlich zum
  \n\nkaritativen Liosn Sommer Ball \n\nam Samstag den 9.5.20
 26 ein. \n\nEinlass 20:30 Eröffnung 21:00 Live Act 23:00 Mit
 ternachts-Quadrille 24:00 Tombola Verlosung 01:00 Ende des Balls 03:
 00 Uhr \n\nBallband: Soulbeats \n\nEintritt Spende: Regulär: 
 EUR 120\,– bzw. EUR 150\,– inkl. Tischplatzreservierung\nLeos & Studenten: EUR
  80\,– („Flanierticket“)\nVIP Tisch-Pakete und Stehtische auf Anfrage: anmel
 dung@lions.or.at oder telefonisch/WhatsApp an Monika Alram 0
 664 34 55 399 \n\nAnmeldungen: anmeldung@lions.or.at und Übe
 rweisung auf das Clubkonto: \nAT21 2011 1280 2586 3302 laute
 nd auf Lions Club Wien ImPuls \n\nDer Reinerlös kommt zur Gä
 nze karitativen Zwecken zugute. \n\nMargot Rest\nPräsidentin
  \nLC Wien ImPuls\n\nPreise\n- Lions Mitglied: 120.00\n- LEO Mitglied:
  80.40\n\n- LC Wien (Host)\n- Leo Club Wien (Host)\n- LC Wie
 n Arte\n- LC Wien Chronos\n- LC Wien Europa\n- LC Wien FOCUS
 \n- LC Wien Impuls\n- LC Wien Opera\n- Leo Club Wien Opera\n
 - LC Wien St Rochus\n- Leo Club Wien St. Rochus\n- LC Wien S
 t. Stephan\n- Leo Club Wien St. Stephan
END:VEVENT
END:VCALENDAR
